BEGIN:VCALENDAR
VERSION:2.0
PRODID:-//Greater Raritan - ECPv6.15.20//NONSGML v1.0//EN
CALSCALE:GREGORIAN
METHOD:PUBLISH
X-ORIGINAL-URL:https://thegrwdb.org
X-WR-CALDESC:Events for Greater Raritan
REFRESH-INTERVAL;VALUE=DURATION:PT1H
X-Robots-Tag:noindex
X-PUBLISHED-TTL:PT1H
BEGIN:VTIMEZONE
TZID:America/New_York
BEGIN:DAYLIGHT
TZOFFSETFROM:-0500
TZOFFSETTO:-0400
TZNAME:EDT
DTSTART:20240310T070000
END:DAYLIGHT
BEGIN:STANDARD
TZOFFSETFROM:-0400
TZOFFSETTO:-0500
TZNAME:EST
DTSTART:20241103T060000
END:STANDARD
BEGIN:DAYLIGHT
TZOFFSETFROM:-0500
TZOFFSETTO:-0400
TZNAME:EDT
DTSTART:20250309T070000
END:DAYLIGHT
BEGIN:STANDARD
TZOFFSETFROM:-0400
TZOFFSETTO:-0500
TZNAME:EST
DTSTART:20251102T060000
END:STANDARD
BEGIN:DAYLIGHT
TZOFFSETFROM:-0500
TZOFFSETTO:-0400
TZNAME:EDT
DTSTART:20260308T070000
END:DAYLIGHT
BEGIN:STANDARD
TZOFFSETFROM:-0400
TZOFFSETTO:-0500
TZNAME:EST
DTSTART:20261101T060000
END:STANDARD
END:VTIMEZONE
BEGIN:VEVENT
DTSTART;TZID=America/New_York:20251203T100000
DTEND;TZID=America/New_York:20251203T113000
DTSTAMP:20260422T200503
CREATED:20251106T233335Z
LAST-MODIFIED:20251106T233335Z
UID:3822-1764756000-1764761400@thegrwdb.org
SUMMARY:Jersey Job Club Workship: Preparing for the Interview
DESCRIPTION:The Greater Raritan One-Stop Career Center in Somerville is hosting a series of Jersey Job Club Workshops in November. These workshops will be virtual\, through Zoom\, but a limited number of seats are available for in-person attendance at the One-Stop Career Center\, 75 Veterans Memorial Drive\, Somerville. \nThe partners in the Greater Raritan One-Stop Career Center have the expertise and knowledge to help job seekers have success. In Jersey Job Club workshops\, a Greater Raritan One-Stop Career Coach leads hour- to 90-minute-long discussions on topics aimed at assisting job seekers in Hunterdon and Somerset Counties. There is no charge to attend. \nDates and topics are: \n\nMonday\, November 10\, 10 to 11:30 a.m.: Resume Writing Workshop 1 – Top Notch Resume\nWednesday\, November 12\, 10 to 11:30 a.m.: Resume Writing Workshop 2 – Cover Letters and More\nFriday\, November 14\, 10 to 11:30 a.m.: Networking – Best (fastest) way to find a job\nMonday\, November 17\, 10 to 11:30 a.m.: Resume Writing Workshop 1 – Top Notch Resume\nWednesday\, November 19\, 10 to 11:30 a.m.: Resume Writing Workshop 2 – Cover Letters and More\nFriday\, November 21\, 10 to 11:30 a.m.: Networking – Best (fastest) way to find a job\nMonday\, November 24\, 10 to 11:30 a.m.: Resume Writing Workshop 1 – Top Notch Resume\nMonday\, December 1\, 10 to 11:30 a.m.: Planning Your Job Search – Path to Employment\nWednesday\, December 3\, 10 to 11:30 a.m.: Acing the Interview 1 – Preparing for the Interview\nFriday\, December 5\, 10 to 11:30 a.m.: Acing the Interview 2 – Answering Interview Questions\nMonday\, December 8\, 10 to 11:30 a.m.: Planning Your Job Search – Path to Employment\nWednesday\, December 10\, 10 to 11:30 a.m.: Acing the Interview 1 – Preparing for the Interview\nFriday\, December 12\, 10 to 11:30 a.m.: Acing the Interview 2 – Answering Interview Questions\nMonday\, December 15\, 10 to 11:30 a.m.: Resume Writing Workshop 1 – Top Notch Resume\nWednesday\, December 17\, 10 to 11:30 a.m.: Resume Writing Workshop 2 – Cover Letters and More\nFriday\, December 19\, 10 to 11:30 a.m.: Networking: Best (Fastest?) Way to Find a Job\nMonday\, December 22\, 10 to 11:30 a.m.: Resume Writing Workshop 1 – Top Notch Resume\nMonday\, December 29\, 10 to 11:30 a.m.: Networking: Best (Fastest?) Way to Find a Job\n\nTo attend virtually or in person\, fill out an information/registration form. Once completed\, email it to shiela.gaa@dol.nj.gov by the Wednesday before the scheduled workshop\, or call 908-704-3000.
URL:https://thegrwdb.org/event/jersey-job-club-workship-preparing-for-the-interview/
LOCATION:Greater Raritan One-Stop Career Center\, Somerville\, and virtual (hybrid event)\, 75 Veterans Memorial Drive\, Somerville\, NJ\, 08876\, United States
CATEGORIES:Workshops
END:VEVENT
BEGIN:VEVENT
DTSTART;TZID=America/New_York:20251203T190000
DTEND;TZID=America/New_York:20251203T203000
DTSTAMP:20260422T200503
CREATED:20251009T202614Z
LAST-MODIFIED:20251009T202614Z
UID:3800-1764788400-1764793800@thegrwdb.org
SUMMARY:Hunterdon County Library Lifelong Learning Series: Excel Data Analysis
DESCRIPTION:As part of a Lifelong Learning series of programming for job seekers\, the Hunterdon County Library is presenting four in-person Excel classes this fall at the Hunterdon County Library Headquarters\, Route 12\, Flemington. \nThe Wednesday\, December 3\, class at 7 p.m. is on Excel Data Analysis. In this 90-minute session\, participants will learn how to sort and filter information\, apply essential formulas\, use PivotTables\, and explore simple functions that reveal insights from raw numbers. Practical techniques to organize data\, identify patterns\, and make better decisions with confidence will be shared. \nTo register for the class\, use the QR code in this flyer or go here.
URL:https://thegrwdb.org/event/hunterdon-county-library-lifelong-learning-series-excel-data-analysis/
LOCATION:Hunterdon County Library\, 314 Route 12\, Flemington\, NJ\, 08822\, United States
CATEGORIES:Workshops
END:VEVENT
END:VCALENDAR