BEGIN:VCALENDAR
VERSION:2.0
PRODID:-//Greater Raritan - ECPv6.15.20//NONSGML v1.0//EN
CALSCALE:GREGORIAN
METHOD:PUBLISH
X-WR-CALNAME:Greater Raritan
X-ORIGINAL-URL:https://thegrwdb.org
X-WR-CALDESC:Events for Greater Raritan
REFRESH-INTERVAL;VALUE=DURATION:PT1H
X-Robots-Tag:noindex
X-PUBLISHED-TTL:PT1H
BEGIN:VTIMEZONE
TZID:America/New_York
BEGIN:DAYLIGHT
TZOFFSETFROM:-0500
TZOFFSETTO:-0400
TZNAME:EDT
DTSTART:20240310T070000
END:DAYLIGHT
BEGIN:STANDARD
TZOFFSETFROM:-0400
TZOFFSETTO:-0500
TZNAME:EST
DTSTART:20241103T060000
END:STANDARD
BEGIN:DAYLIGHT
TZOFFSETFROM:-0500
TZOFFSETTO:-0400
TZNAME:EDT
DTSTART:20250309T070000
END:DAYLIGHT
BEGIN:STANDARD
TZOFFSETFROM:-0400
TZOFFSETTO:-0500
TZNAME:EST
DTSTART:20251102T060000
END:STANDARD
BEGIN:DAYLIGHT
TZOFFSETFROM:-0500
TZOFFSETTO:-0400
TZNAME:EDT
DTSTART:20260308T070000
END:DAYLIGHT
BEGIN:STANDARD
TZOFFSETFROM:-0400
TZOFFSETTO:-0500
TZNAME:EST
DTSTART:20261101T060000
END:STANDARD
END:VTIMEZONE
BEGIN:VEVENT
DTSTART;TZID=America/New_York:20250827T100000
DTEND;TZID=America/New_York:20250827T160000
DTSTAMP:20260423T030957
CREATED:20250823T023416Z
LAST-MODIFIED:20250823T023416Z
UID:3743-1756288800-1756310400@thegrwdb.org
SUMMARY:ID Logistics Job Fair in Somerset
DESCRIPTION:ID Logistics is opening a new location in the Somerset section of Franklin this fall\, and will be hosting a Job Fair on Wednesday\, August 27\, to fill a variety of warehouse positions. The Job Fair will run from 10 a.m. to 4 p.m. at the Double Tree Hotel\, 200 Atrium Drive\, Somerset\, NJ 08873. \nThe company is hiring warehouse associates with forklift experience\, along with the following positions: Flow Controller\, Inventory Problem Solver\, Cycle Counters\, General Warehouse\, Team Lead\, Supervisors and Managers. These are first-shift positions\, and the pay rate starts at $19.50 hourly. \nApplicants should bring their Photo Ids and be prepared for on-the-spot job offers and drug screenings. \nBenefits include: \n\nMedical\, Dental\, Vision after 60 days of employment (Options available)\n401K with matching program\nSTD\, LTD\nVacation and sick time\nA friendly and open-door culture\n\nPosition requirements: \n\nHigh school diploma or general education degree (GED); three or more years of related experience and/or training; or equivalent combination of education and experience\nMust be able to successfully complete post-hire assessments.\nMust be able to obtain and maintain equipment certifications (e.g. OSHA\, company\, etc.).\nMust be able to wear personal protective equipment appropriate for the work environment (e.g. protective footwear\, protective eyewear\, gloves\, etc.) in accordance with safety policies.\n\nGo here for more information:  Career Site. \n 
URL:https://thegrwdb.org/event/id-logistics-job-fair-in-somerset/
LOCATION:Double Tree Hotel\, 200 Atrium Drive\, Somerset\, NJ\, 08873\, United States
CATEGORIES:Career Fair
END:VEVENT
BEGIN:VEVENT
DTSTART;TZID=America/New_York:20250827T110000
DTEND;TZID=America/New_York:20250827T120000
DTSTAMP:20260423T030957
CREATED:20250709T032930Z
LAST-MODIFIED:20250709T032930Z
UID:3708-1756292400-1756296000@thegrwdb.org
SUMMARY:GRWDB OPG Manufacturing Program Information Session
DESCRIPTION:The Greater Raritan Workforce Development Board and the New Jersey Manufacturing Extension Program are collaborating on a New Jersey Department of Labor and Workforce Development Opportunity Partnership Grant that provides free online training in manufacturing. \nHunterdon and Somerset County residents are invited to learn more by joining a series of introductory Manufacturing Program Orientations running at 11 a.m. Wednesdays\, from July 16 through August 27. The sessions\, on July 16\, July 23\, July 30\, August 6\, August 13\, August 20 and August 27\, will be conducted virtually via GoToMeeting and in-person at the GRWDB office at 27 Warren St.\, third floor\, Somerville. \nThe GRWDB OPG Program is designed for dislocated workers and underemployed individuals who are interested in starting a new manufacturing career. The program allows eligible participants to get an OSHA-10 certificate in safety standards and receive a certification for Certified Manufacturing Associate in fundamental production know-how. The 12-hour OSHA online class and the 25- to 30-hour online training program from Tooling U-SME introduce basic concepts in the areas needed to begin a successful entry-level manufacturing career. \nThere are 30 slots available. Applicants will work with the OPG Coordinator and the Greater Raritan One-Stop Career Center to complete eligibility documentation\, and instruction will be provided in cohorts directly from an instructor providing the teachings for the credential. \nTo join the session virtually\, go to https://meet.goto.com/337366277 on the day of the event. Interested applicants also can dial in. Call 1 (872) 240-3311; Access Code: 337-366-277. \nFor assistance on joining an orientation session or to get started immediately on the application process\, email OPG Coordinator Anthony Zarro at info@thegrwdb.org\, or call 908-203-6047. \n 
URL:https://thegrwdb.org/event/grwdb-opg-manufacturing-program-information-session-12/
LOCATION:In-person in GRWDB office or via GoToMeeting\, 27 Warren St\,\, third floor\, Somerville\, NJ\, 08876\, United States
CATEGORIES:Training Program Info Session
END:VEVENT
END:VCALENDAR