BEGIN:VCALENDAR
VERSION:2.0
PRODID:-//Greater Raritan - ECPv6.15.20//NONSGML v1.0//EN
CALSCALE:GREGORIAN
METHOD:PUBLISH
X-WR-CALNAME:Greater Raritan
X-ORIGINAL-URL:https://thegrwdb.org
X-WR-CALDESC:Events for Greater Raritan
REFRESH-INTERVAL;VALUE=DURATION:PT1H
X-Robots-Tag:noindex
X-PUBLISHED-TTL:PT1H
BEGIN:VTIMEZONE
TZID:America/New_York
BEGIN:DAYLIGHT
TZOFFSETFROM:-0500
TZOFFSETTO:-0400
TZNAME:EDT
DTSTART:20240310T070000
END:DAYLIGHT
BEGIN:STANDARD
TZOFFSETFROM:-0400
TZOFFSETTO:-0500
TZNAME:EST
DTSTART:20241103T060000
END:STANDARD
BEGIN:DAYLIGHT
TZOFFSETFROM:-0500
TZOFFSETTO:-0400
TZNAME:EDT
DTSTART:20250309T070000
END:DAYLIGHT
BEGIN:STANDARD
TZOFFSETFROM:-0400
TZOFFSETTO:-0500
TZNAME:EST
DTSTART:20251102T060000
END:STANDARD
BEGIN:DAYLIGHT
TZOFFSETFROM:-0500
TZOFFSETTO:-0400
TZNAME:EDT
DTSTART:20260308T070000
END:DAYLIGHT
BEGIN:STANDARD
TZOFFSETFROM:-0400
TZOFFSETTO:-0500
TZNAME:EST
DTSTART:20261101T060000
END:STANDARD
END:VTIMEZONE
BEGIN:VEVENT
DTSTART;TZID=America/New_York:20250825T100000
DTEND;TZID=America/New_York:20250825T123000
DTSTAMP:20260423T030957
CREATED:20250814T205534Z
LAST-MODIFIED:20250814T205534Z
UID:3725-1756116000-1756125000@thegrwdb.org
SUMMARY:PSGCNJ Workshop: LinkedIn Best Practices for 2025
DESCRIPTION:The Professional Service Group of Central New Jersey will host a free virtual workshop focusing on LinkedIn from 10 to 12:30 p.m. Monday\, August 25. \nThe event will begin with Job Search Mentor Kenneth Lang\, who will present “LinkedIn Best Practices for 2025” to help jobseekers find their next opportunity. \nAt noon\, Maya Ollson\, founder of Kokopella High Touch Outplacement\, will facilitate a 30-minute Q&A session to answer job-search questions. \nAll PSGCNJ members\, guests\, and speakers must pre-register for each general meeting by 11 p.m. EST the Friday before Monday’s presentation. \nTo register for the virtual event: click the link. \nPSGCNJ is the nation’s first employment community that helps unemployed and underemployed college-educated professionals land their next job. Members volunteer their time and talent to operate the 501(c)3 nonprofit. \n 
URL:https://thegrwdb.org/event/psgcnj-workshop-linkedin-best-practices-for-2025/
LOCATION:Virtual Event
CATEGORIES:Workshops
END:VEVENT
BEGIN:VEVENT
DTSTART;TZID=America/New_York:20250825T110000
DTEND;TZID=America/New_York:20250825T120000
DTSTAMP:20260423T030957
CREATED:20250818T234424Z
LAST-MODIFIED:20250818T234424Z
UID:3728-1756119600-1756123200@thegrwdb.org
SUMMARY:Healthcare Apprenticeship Information Session for Businesses in Hunterdon and Somerset Counties
DESCRIPTION:Apprenticeship is an increasingly important part of the offerings available through workforce development programs – and one that is expected to get more attention and funding from Washington\, DC. \nTo share information on local opportunities\, the GRWDB is partnering with Kaizen Technologies\, based in Edison\, to present a virtual program for employers in Hunterdon and Somerset Counties on how to become part of Kaizen’s Registered Healthcare Apprenticeship Program. The session on Zoom will be conducted on Monday\, August 25\, from 11 a.m. to 12 p.m. \nThis session will provide insights into how this Registered Healthcare Apprenticeship program can help local businesses train and retain talent using an existing program that meets national quality standards while reducing turnover costs\, increasing productivity\, and taking advantage of free\, expert technical assistance and other related benefits. \nTo join this event\, use the link in this flyer or go here.
URL:https://thegrwdb.org/event/healthcare-apprenticeship-information-session-for-businesses-in-hunterdon-and-somerset-counties-2/
LOCATION:Virtual Event
CATEGORIES:Business Event
END:VEVENT
END:VCALENDAR