BEGIN:VCALENDAR
VERSION:2.0
PRODID:-//Greater Raritan - ECPv6.15.20//NONSGML v1.0//EN
CALSCALE:GREGORIAN
METHOD:PUBLISH
X-ORIGINAL-URL:https://thegrwdb.org
X-WR-CALDESC:Events for Greater Raritan
REFRESH-INTERVAL;VALUE=DURATION:PT1H
X-Robots-Tag:noindex
X-PUBLISHED-TTL:PT1H
BEGIN:VTIMEZONE
TZID:America/New_York
BEGIN:DAYLIGHT
TZOFFSETFROM:-0500
TZOFFSETTO:-0400
TZNAME:EDT
DTSTART:20240310T070000
END:DAYLIGHT
BEGIN:STANDARD
TZOFFSETFROM:-0400
TZOFFSETTO:-0500
TZNAME:EST
DTSTART:20241103T060000
END:STANDARD
BEGIN:DAYLIGHT
TZOFFSETFROM:-0500
TZOFFSETTO:-0400
TZNAME:EDT
DTSTART:20250309T070000
END:DAYLIGHT
BEGIN:STANDARD
TZOFFSETFROM:-0400
TZOFFSETTO:-0500
TZNAME:EST
DTSTART:20251102T060000
END:STANDARD
BEGIN:DAYLIGHT
TZOFFSETFROM:-0500
TZOFFSETTO:-0400
TZNAME:EDT
DTSTART:20260308T070000
END:DAYLIGHT
BEGIN:STANDARD
TZOFFSETFROM:-0400
TZOFFSETTO:-0500
TZNAME:EST
DTSTART:20261101T060000
END:STANDARD
END:VTIMEZONE
BEGIN:VEVENT
DTSTART;TZID=America/New_York:20250812T130000
DTEND;TZID=America/New_York:20250812T150000
DTSTAMP:20260423T031002
CREATED:20250627T235755Z
LAST-MODIFIED:20250627T235755Z
UID:3697-1755003600-1755010800@thegrwdb.org
SUMMARY:Energy Workforce Webinar 2025
DESCRIPTION:Emerging clean energy pathways\, the role of apprenticeships and strategies for building a future-ready energy workforce will be discussed during Energy Workforce Webinar 2025\, a special virtual event being hosted on RingCentral from 1 to 3 p.m. Tuesday\, August 12. \nThis virtual\, statewide event brings together industry innovators\, workforce leaders\, and educators to share workforce strategies and talk about ways job seekers and employers can prepare for clean-energy careers. \nParticipants include \n\nDr. Donovan L. Thompson\, Executive Director & Dean of Energy Sciences at River Parishes Community College and creator of the EPIC Consortium\nDr. Jalaal A. Hayes\, founder of Evince Innovations and the youngest person in U.S. history to earn a Ph.D. in Applied Chemistry\nDwayne Norris\, Co-Founder and COO of Soulful Synergy\nNorbert Donnell\, an electrical subcontractor construction manager with a hands-on role in overseeing major energy infrastructure projects\nSarah Pidgeon\, executive director of STEP-UP Solar in Asbury Park\n\nThe event is appropriate for workforce leaders\, job seekers\, energy employers\, educators\, and training providers. \nTo register\, go to https://events.ringcentral.com/events/energywebinar2025.
URL:https://thegrwdb.org/event/energy-workforce-webinar-2025/
LOCATION:Virtual Event
CATEGORIES:Community Event
END:VEVENT
BEGIN:VEVENT
DTSTART;TZID=America/New_York:20250812T140000
DTEND;TZID=America/New_York:20250812T150000
DTSTAMP:20260423T031002
CREATED:20250808T013306Z
LAST-MODIFIED:20250808T013306Z
UID:3720-1755007200-1755010800@thegrwdb.org
SUMMARY:GRWDB Literacy Committee Meeting
DESCRIPTION:Through policy\, oversight\, and planning\, the GRWDB ensures that workforce training and education investments are responsive to and meet the needs of employers and jobseekers and is responsible for maintaining committees to help inform decision-making around services and priorities for targeted populations. One of those includes the GRWDB’s Literacy Committee\, which works with Title II literacy providers and volunteer literacy organizations in Hunterdon and Somerset counties to ensure literacy training is connected to the other services offered in Greater Raritan’s workforce system. \nThe agenda for the August 12 meeting will include reviews of First Steps and Title II programs and a brief discussion on the NJDOL’s Digital Equity Training grant opportunity.  Go to the GRWDB Meeting Packages page for the agenda. Meeting details: \nGRWDB Literacy Meeting\nAugust 12\, 2025\, 2:00 – 3:00 PM \nPlease join the meeting from your computer\, tablet or smartphone.\nhttps://meet.goto.com/411167173 \nYou can also dial in using your phone: United States: +1 (224) 501-3412; Access Code: 411-167-173 \nAll GRWDB committee meetings are open to the public.
URL:https://thegrwdb.org/event/grwdb-literacy-committee-meeting-4/
LOCATION:Virtual Meeting
CATEGORIES:Committee Meeting
END:VEVENT
END:VCALENDAR