BEGIN:VCALENDAR
VERSION:2.0
PRODID:-//Greater Raritan - ECPv6.15.20//NONSGML v1.0//EN
CALSCALE:GREGORIAN
METHOD:PUBLISH
X-ORIGINAL-URL:https://thegrwdb.org
X-WR-CALDESC:Events for Greater Raritan
REFRESH-INTERVAL;VALUE=DURATION:PT1H
X-Robots-Tag:noindex
X-PUBLISHED-TTL:PT1H
BEGIN:VTIMEZONE
TZID:America/New_York
BEGIN:DAYLIGHT
TZOFFSETFROM:-0500
TZOFFSETTO:-0400
TZNAME:EDT
DTSTART:20230312T070000
END:DAYLIGHT
BEGIN:STANDARD
TZOFFSETFROM:-0400
TZOFFSETTO:-0500
TZNAME:EST
DTSTART:20231105T060000
END:STANDARD
BEGIN:DAYLIGHT
TZOFFSETFROM:-0500
TZOFFSETTO:-0400
TZNAME:EDT
DTSTART:20240310T070000
END:DAYLIGHT
BEGIN:STANDARD
TZOFFSETFROM:-0400
TZOFFSETTO:-0500
TZNAME:EST
DTSTART:20241103T060000
END:STANDARD
BEGIN:DAYLIGHT
TZOFFSETFROM:-0500
TZOFFSETTO:-0400
TZNAME:EDT
DTSTART:20250309T070000
END:DAYLIGHT
BEGIN:STANDARD
TZOFFSETFROM:-0400
TZOFFSETTO:-0500
TZNAME:EST
DTSTART:20251102T060000
END:STANDARD
END:VTIMEZONE
BEGIN:VEVENT
DTSTART;TZID=America/New_York:20241204T130000
DTEND;TZID=America/New_York:20241204T160000
DTSTAMP:20260423T181604
CREATED:20241123T012729Z
LAST-MODIFIED:20241123T012729Z
UID:3490-1733317200-1733328000@thegrwdb.org
SUMMARY:Greater Raritan One-Stop Career Center Training Services Center Holiday Open House
DESCRIPTION:The Greater Raritan One-Stop Career Center Training Services Center is conducting a Holiday Open House from 1 to 4 p.m. Wednesday\, Dec. 4\, at its location at 6 Gauntt Place (lower level) in Flemington. \nJob seekers\, community- and faith-based organizations and Greater Raritan Workforce Development Board partners are invited to enjoy light refreshments\, meet team members and learn about the many free career services available to residents and businesses in Hunterdon and Somerset counties. \nFor more information\, call 908-541-5780 or email onestop@co.somerset.nj.us.
URL:https://thegrwdb.org/event/greater-raritan-one-stop-career-center-training-services-center-holiday-open-house/
LOCATION:NJ
CATEGORIES:Community Event
END:VEVENT
END:VCALENDAR