BEGIN:VCALENDAR
VERSION:2.0
PRODID:-//Greater Raritan - ECPv6.15.20//NONSGML v1.0//EN
CALSCALE:GREGORIAN
METHOD:PUBLISH
X-WR-CALNAME:Greater Raritan
X-ORIGINAL-URL:https://thegrwdb.org
X-WR-CALDESC:Events for Greater Raritan
REFRESH-INTERVAL;VALUE=DURATION:PT1H
X-Robots-Tag:noindex
X-PUBLISHED-TTL:PT1H
BEGIN:VTIMEZONE
TZID:America/New_York
BEGIN:DAYLIGHT
TZOFFSETFROM:-0500
TZOFFSETTO:-0400
TZNAME:EDT
DTSTART:20230312T070000
END:DAYLIGHT
BEGIN:STANDARD
TZOFFSETFROM:-0400
TZOFFSETTO:-0500
TZNAME:EST
DTSTART:20231105T060000
END:STANDARD
BEGIN:DAYLIGHT
TZOFFSETFROM:-0500
TZOFFSETTO:-0400
TZNAME:EDT
DTSTART:20240310T070000
END:DAYLIGHT
BEGIN:STANDARD
TZOFFSETFROM:-0400
TZOFFSETTO:-0500
TZNAME:EST
DTSTART:20241103T060000
END:STANDARD
BEGIN:DAYLIGHT
TZOFFSETFROM:-0500
TZOFFSETTO:-0400
TZNAME:EDT
DTSTART:20250309T070000
END:DAYLIGHT
BEGIN:STANDARD
TZOFFSETFROM:-0400
TZOFFSETTO:-0500
TZNAME:EST
DTSTART:20251102T060000
END:STANDARD
END:VTIMEZONE
BEGIN:VEVENT
DTSTART;TZID=America/New_York:20241001T100000
DTEND;TZID=America/New_York:20241001T140000
DTSTAMP:20260423T220759
CREATED:20240920T233719Z
LAST-MODIFIED:20240920T233719Z
UID:3448-1727776800-1727791200@thegrwdb.org
SUMMARY:Clean Slate Expungement Clinic
DESCRIPTION:The New Jersey Office of the Public Defender (NJOPD)\, First Baptist Church of Lincoln Gardens\, Assemblyman Joe Danielsen\, D-Dist. 17\, and Somerset County are teaming up to host a Clean Slate Expungement Clinic from 10 a.m. to 2 p.m. on Tuesday\, Oct. 1\, at First Baptist\, 711 Somerset St.\, Somerset section of Franklin. \nThe free event is open to all New Jersey residents in need of expungement. The event offers one-on-one consultations with experienced NJOPD attorneys and legal professionals who will assist with expungement eligibility\, paperwork\, and more. \nTo register\, use the link in this flyer or go here. \n 
URL:https://thegrwdb.org/event/clean-slate-expungement-clinic/
LOCATION:First Baptist Church of Lincoln Gardens\, 771 Somerset St.\, Somerset\, NJ\, 08873\, United States
CATEGORIES:Community Event
END:VEVENT
END:VCALENDAR