BEGIN:VCALENDAR
VERSION:2.0
PRODID:-//Greater Raritan - ECPv6.15.20//NONSGML v1.0//EN
CALSCALE:GREGORIAN
METHOD:PUBLISH
X-ORIGINAL-URL:https://thegrwdb.org
X-WR-CALDESC:Events for Greater Raritan
REFRESH-INTERVAL;VALUE=DURATION:PT1H
X-Robots-Tag:noindex
X-PUBLISHED-TTL:PT1H
BEGIN:VTIMEZONE
TZID:America/New_York
BEGIN:DAYLIGHT
TZOFFSETFROM:-0500
TZOFFSETTO:-0400
TZNAME:EDT
DTSTART:20230312T070000
END:DAYLIGHT
BEGIN:STANDARD
TZOFFSETFROM:-0400
TZOFFSETTO:-0500
TZNAME:EST
DTSTART:20231105T060000
END:STANDARD
BEGIN:DAYLIGHT
TZOFFSETFROM:-0500
TZOFFSETTO:-0400
TZNAME:EDT
DTSTART:20240310T070000
END:DAYLIGHT
BEGIN:STANDARD
TZOFFSETFROM:-0400
TZOFFSETTO:-0500
TZNAME:EST
DTSTART:20241103T060000
END:STANDARD
BEGIN:DAYLIGHT
TZOFFSETFROM:-0500
TZOFFSETTO:-0400
TZNAME:EDT
DTSTART:20250309T070000
END:DAYLIGHT
BEGIN:STANDARD
TZOFFSETFROM:-0400
TZOFFSETTO:-0500
TZNAME:EST
DTSTART:20251102T060000
END:STANDARD
END:VTIMEZONE
BEGIN:VEVENT
DTSTART;TZID=America/New_York:20240918T090000
DTEND;TZID=America/New_York:20240918T120000
DTSTAMP:20260424T000728
CREATED:20240907T010305Z
LAST-MODIFIED:20240907T010305Z
UID:3436-1726650000-1726660800@thegrwdb.org
SUMMARY:Manufacturing Recruitment Event at Hunterdon County Chamber
DESCRIPTION:Johanna Foods in Flemington\, Magna-Power in Flemington\, Power Container in the Somerset section of Franklin\, and Trident Marine Systems\nin High Bridge are hiring. Learn more at an in-person Manufacturing Recruitment Event being presented from 9 a.m. to 12 p.m. Wednesday\, September 18\, at the Hunterdon County Chamber of Commerce Center for Business & Entrepreneurship\, 119 Main St. Flemington. \nThe companies and job titles are: \n\nJohanna Foods:  Food Plant Production/Packaging Machine Operators; General Utility\, Food Plant Electricians and Electromechanical Technicians; and Food Plant Maintenance Mechanics\nMagna-Power:  Stockroom Clerk; Printed Circuit Board (PCB) Assembler; Electronic Test Technician; Sub-Assembly/Wire Harness Assembler; Software Engineer; Technical Marketing Manager; Electro-Mechanical Manufacturing Production Assembler; and Mechanical Engineer\nPower Container: Machine Operator (must have minimum of six months experience); and Stretch Blow Mold Technician\nTrident Marine Systems: General Laborer for first and second shifts; CNC Machinist second shift; Quality Control (metallurgical only); Forging Operator; and Administrative Support.\n\nTo register\, use the QR code in this flyer or this link: https://bit.ly/4eeg1vW. A follow-up confirmation email with parking and event details will be sent to registrants.
URL:https://thegrwdb.org/event/manufacturing-recruitment-event-at-hunterdon-county-chamber/
LOCATION:NJ
CATEGORIES:Recruitment Event
END:VEVENT
END:VCALENDAR