BEGIN:VCALENDAR
VERSION:2.0
PRODID:-//Greater Raritan - ECPv6.15.20//NONSGML v1.0//EN
CALSCALE:GREGORIAN
METHOD:PUBLISH
X-ORIGINAL-URL:https://thegrwdb.org
X-WR-CALDESC:Events for Greater Raritan
REFRESH-INTERVAL;VALUE=DURATION:PT1H
X-Robots-Tag:noindex
X-PUBLISHED-TTL:PT1H
BEGIN:VTIMEZONE
TZID:America/New_York
BEGIN:DAYLIGHT
TZOFFSETFROM:-0500
TZOFFSETTO:-0400
TZNAME:EDT
DTSTART:20230312T070000
END:DAYLIGHT
BEGIN:STANDARD
TZOFFSETFROM:-0400
TZOFFSETTO:-0500
TZNAME:EST
DTSTART:20231105T060000
END:STANDARD
BEGIN:DAYLIGHT
TZOFFSETFROM:-0500
TZOFFSETTO:-0400
TZNAME:EDT
DTSTART:20240310T070000
END:DAYLIGHT
BEGIN:STANDARD
TZOFFSETFROM:-0400
TZOFFSETTO:-0500
TZNAME:EST
DTSTART:20241103T060000
END:STANDARD
BEGIN:DAYLIGHT
TZOFFSETFROM:-0500
TZOFFSETTO:-0400
TZNAME:EDT
DTSTART:20250309T070000
END:DAYLIGHT
BEGIN:STANDARD
TZOFFSETFROM:-0400
TZOFFSETTO:-0500
TZNAME:EST
DTSTART:20251102T060000
END:STANDARD
END:VTIMEZONE
BEGIN:VEVENT
DTSTART;TZID=America/New_York:20240815T093000
DTEND;TZID=America/New_York:20240815T133000
DTSTAMP:20260424T015308
CREATED:20240704T002932Z
LAST-MODIFIED:20240704T002932Z
UID:3391-1723714200-1723728600@thegrwdb.org
SUMMARY:Civil Service Commission Statewide Job Fair
DESCRIPTION:The Civil Service Commission’s Statewide Job Fair will be conducted on Thursday\, August 15\, from 9:30 a.m. to 1:30 p.m. at Kean University’s Library Hall Academic Center\, 1003 Morris Ave.\, Building 2\, in Union. \nPositions are available in state and local government agencies\, as well as colleges and universities. \nThis event also will feature informational sessions at 10:30 a.m.\, 11:30 a.m. and 12:30 p.m. on how to apply for state employment. \nTo register for the event\, scan code the QR code in this flyer or go to https://forms.office.com/g/07cJg7GXP. \n  \n  \n 
URL:https://thegrwdb.org/event/civil-service-commission-statewide-job-fair/
LOCATION:Kean University Liberty Hall Academic Center\, 1003 Morris Ave.\, Union\, NJ\, 07083\, United States
CATEGORIES:Career Fair
END:VEVENT
BEGIN:VEVENT
DTSTART;TZID=America/New_York:20240815T100000
DTEND;TZID=America/New_York:20240815T120000
DTSTAMP:20260424T015308
CREATED:20240730T025311Z
LAST-MODIFIED:20240730T025311Z
UID:3404-1723716000-1723723200@thegrwdb.org
SUMMARY:Federal Air Marshal Service Job Recruitment and Info Session
DESCRIPTION:The Federal Air Marshal Service (FAMS) is conducting a Job Recruitment and Info Session at 10 a.m. Thursday\, August 15\, at Union College of Union County\, 40 W. Jersey St.\, Elizabeth\, in the Kellogg Building. \nThe mission of the Federal Air Marshal Service (FAMS) is to detect\, deter and defeat criminal\, terrorist and hostile activities that target the nation’s transportation systems. Federal Air Marshals are deployed to assess\, address and mitigate varying potential risks and threats to transportation and travelers. Event attendees will learn about the FAMS hiring and application process. \nThe application requirements are in this flyer\, along with the QR code to registered for the recruitment session. Or go here. \n 
URL:https://thegrwdb.org/event/federal-air-marshal-service-job-recruitment-and-info-session/
LOCATION:UCNJ Union College of Union County\, 40 W. Jesey St.\, Elizabeth\, NJ\, 07202\, United States
CATEGORIES:Recruitment Event
END:VEVENT
BEGIN:VEVENT
DTSTART;TZID=America/New_York:20240815T110000
DTEND;TZID=America/New_York:20240815T140000
DTSTAMP:20260424T015308
CREATED:20240802T002219Z
LAST-MODIFIED:20240802T002219Z
UID:3409-1723719600-1723730400@thegrwdb.org
SUMMARY:United States Postal Service – Paterson Job Fair
DESCRIPTION:The United States Post Office in Paterson is hosting a Job Fair from 11 a.m. to 2 p.m. Thursday\, August 15\, at the post office at 194 Ward St.\, Paterson. \nImmediate openings for City Carrier Assistants are available in Paterson and surrounding areas: City positions start at $19.33 per hour; regional positions start at $20.38 per hour. \nApplications will be accepted onsite\, and prescreening/fingerprinting will be done on site. Applicants must have a driver’s license for two years\, a safe driving record\, and five years of continuous residency in the U.S. \nFor more information\, visit https://USPS.com/careers.
URL:https://thegrwdb.org/event/united-states-postal-service-paterson-job-fair/
LOCATION:U.S. Post Office Paterson\, 194 Ward St.\, Paterson\, NJ\, 07501\, United States
CATEGORIES:Recruitment Event
END:VEVENT
BEGIN:VEVENT
DTSTART;TZID=America/New_York:20240815T130000
DTEND;TZID=America/New_York:20240815T150000
DTSTAMP:20260424T015308
CREATED:20240722T191009Z
LAST-MODIFIED:20240722T191009Z
UID:3398-1723726800-1723734000@thegrwdb.org
SUMMARY:Norwescap workshop: Non-Traditional Occupations for Women
DESCRIPTION:Norwescap’s Career and Life Transitions Center is hosting a workshop on “Non-Traditional Occupations for Women” from 1 to 3 p.m. Thursday\, August 15\, at the Hunterdon County Library\, 314 Route 12\, Flemington. \nThis is a centralized location to which Norwescap clients from Hunterdon\, Morris\, Somerset\, Sussex and Warren counties\, as well as the public\, are invited. Attendees will hear about jobs they may not have thought of before. \nFor more information\, call Norwescap at 908-788-1453.
URL:https://thegrwdb.org/event/norwescap-workshop-non-traditional-occupations-for-women/
LOCATION:Hunterdon County Library\, 314 Route 12\, Flemington\, NJ\, 08822\, United States
CATEGORIES:Workshops
END:VEVENT
BEGIN:VEVENT
DTSTART;TZID=America/New_York:20240815T130000
DTEND;TZID=America/New_York:20240815T173000
DTSTAMP:20260424T015308
CREATED:20240802T000603Z
LAST-MODIFIED:20240802T000603Z
UID:3408-1723726800-1723743000@thegrwdb.org
SUMMARY:Hackensack Meridian Health Career Fair at Carrier Clinic
DESCRIPTION:Carrier Clinic\, a Hackensack Meridian Health Behavioral Health Facility at 252 County Road 601 in the Belle Mead section of Montgomery\, is conducting a Career Fair from 1 to 5:30 p.m. Thursday\, August 15. \nNumerous roles\, ranging from nursing and clinical care to housekeeping and food services\, are available. Attendees will be able to engage with hiring managers\, learn about the facility’s innovative programs\, and discover how they can make a meaningful impact on the health and well-being of the local communities. \nThis in-person event\, and on-the-spot interviews will be conducted. \nTo register\, go here and click on the “register” button in the top right\, or use the QR code in this flyer.
URL:https://thegrwdb.org/event/hackensack-meridian-health-career-fair-at-carrier-clinic/
LOCATION:Hackensack  Meridian Carrier Clinic\, 252 County Road 601\, Belle Mead\, NJ\, 08502\, United States
CATEGORIES:Career Fair
END:VEVENT
BEGIN:VEVENT
DTSTART;TZID=America/New_York:20240815T150000
DTEND;TZID=America/New_York:20240815T160000
DTSTAMP:20260424T015308
CREATED:20240801T020933Z
LAST-MODIFIED:20240801T020933Z
UID:3405-1723734000-1723737600@thegrwdb.org
SUMMARY:VMware Associate Information Session
DESCRIPTION:An Information Session for a training program to become a VMware Associated will be conducted from 3 to 4 p.m. Thursday\, August 15. \nThis program is for someone who wants to obtain the skills necessary to repair\, network\, and install computers and implement VMware administration in a network environment. This program contains the CompTIA A+ Certification. The student can obtain the skills necessary to enter the IT industry but also be on the cutting edge of technology by learning VMware virtualization. Students can obtain the certification on the CompTIA A+ Certification. \nThe program is funded by a New Jersey Department of Labor Opportunity Partnership Grant\, and the training provider is BAR PC Training LLC\, based in Point Pleasant. \nTo be eligible for this training opportunity\, must be: \n\nCurrently registered with the One-Stop Career Center\nCurrently receiving UI or unemployed and UI ended within the past 52 weeks or\nEligible unemployed individuals who meet the definition of WIOA dislocated worker.\n\nTo join the session from your computer\, tablet or Smartphone: go to https://us02web.zoom.us/j/89904245033?pwd=JKTX4fSI7bLSET3S4OsM6be3ygBTY7.1. \nOr dial in 1-929-205-6099; Meeting ID: 899 0424 5033. \nFor more information on this training opportunity and to register for this Information Session\, contact Brian Barberi at 732-244-3802 or brian@pctrain.net.
URL:https://thegrwdb.org/event/vmware-associate-information-session/
LOCATION:Zoom
CATEGORIES:Virtual Information Job Session
END:VEVENT
BEGIN:VEVENT
DTSTART;TZID=America/New_York:20240815T150000
DTEND;TZID=America/New_York:20240815T161500
DTSTAMP:20260424T015308
CREATED:20240722T210850Z
LAST-MODIFIED:20240722T210850Z
UID:3402-1723734000-1723738500@thegrwdb.org
SUMMARY:CJHRC Workshop: Disaster Planning and Resources
DESCRIPTION:Central Jersey Housing Resource Center (CJHRC) will present a virtual workshop on Disaster Planning and Resources from 3 to 4:15 p.m. Thursday\, August 15. \nThe presenters for this program are Sharon Clark\, Central Jersey Housing Resource Center (CJHRC) & Lisa Galonardo\, United Way of Northern New Jersey. This free webinar will cover the importance to prepare\, prevent and protect yourself in the event of a natural disaster. Resources and beneficial information will also be shared. Topics that will be covered: \n\nCommon NJ Disasters\nPreparing a Plan\nDocuments Often Needed\nInsurance\nFEMA\nResources\n\nTo register\, use this link\, https://attendee.gotowebinar.com/register/7867992397619796825\, or go to www.cjhrc.org and hover over the Virtual Counseling Programs tab and click on HRC Informational Series. Click on the webinar you want to register for\, and it will bring you to a flyer with a link to register. \nIf you have questions or need help registering\, contact a CJHRC Counselor at 908-446-0037.
URL:https://thegrwdb.org/event/cjhrc-workshop-disaster-planning-and-resources/
LOCATION:Virtual Event
CATEGORIES:Workshops
END:VEVENT
END:VCALENDAR