BEGIN:VCALENDAR
VERSION:2.0
PRODID:-//Greater Raritan - ECPv6.15.20//NONSGML v1.0//EN
CALSCALE:GREGORIAN
METHOD:PUBLISH
X-WR-CALNAME:Greater Raritan
X-ORIGINAL-URL:https://thegrwdb.org
X-WR-CALDESC:Events for Greater Raritan
REFRESH-INTERVAL;VALUE=DURATION:PT1H
X-Robots-Tag:noindex
X-PUBLISHED-TTL:PT1H
BEGIN:VTIMEZONE
TZID:America/New_York
BEGIN:DAYLIGHT
TZOFFSETFROM:-0500
TZOFFSETTO:-0400
TZNAME:EDT
DTSTART:20230312T070000
END:DAYLIGHT
BEGIN:STANDARD
TZOFFSETFROM:-0400
TZOFFSETTO:-0500
TZNAME:EST
DTSTART:20231105T060000
END:STANDARD
BEGIN:DAYLIGHT
TZOFFSETFROM:-0500
TZOFFSETTO:-0400
TZNAME:EDT
DTSTART:20240310T070000
END:DAYLIGHT
BEGIN:STANDARD
TZOFFSETFROM:-0400
TZOFFSETTO:-0500
TZNAME:EST
DTSTART:20241103T060000
END:STANDARD
BEGIN:DAYLIGHT
TZOFFSETFROM:-0500
TZOFFSETTO:-0400
TZNAME:EDT
DTSTART:20250309T070000
END:DAYLIGHT
BEGIN:STANDARD
TZOFFSETFROM:-0400
TZOFFSETTO:-0500
TZNAME:EST
DTSTART:20251102T060000
END:STANDARD
END:VTIMEZONE
BEGIN:VEVENT
DTSTART;TZID=America/New_York:20240808T150000
DTEND;TZID=America/New_York:20240808T154500
DTSTAMP:20260424T021907
CREATED:20240802T025222Z
LAST-MODIFIED:20240802T025222Z
UID:3410-1723129200-1723131900@thegrwdb.org
SUMMARY:GRWDB Operations Committee Meeting – in-person and via GoToMeeting
DESCRIPTION:Through policy\, oversight\, and planning\, the GRWDB ensures that workforce training and education investments are responsive to and meet the needs of employers and jobseekers and is responsible for maintaining committees to help inform decision-making around services and priorities for targeted populations. One of those includes the GRWDB’s One-Stop Operations Committee\, which provides strategy and direction for the services and programs offered by the One-Stop locations in Flemington (Hunterdon County) and Somerville (Somerset County). \nAttendees may either join in person by going to 27 Warren St.\, second-floor conference room\, Somerville\, or via GoToMeeting. \nGRWDB Operations Committee\nAug 8\, 2024\, 3:00 – 3:45 PM \nPlease join the meeting from your computer\, tablet or smartphone.\nhttps://meet.goto.com/363671933 \nYou can also dial in using your phone.\nAccess Code: 363-671-933\nUnited States: +1 (408) 650-3123 \nMeeting agendas are posted here on the GRWDB website. \nNewcomers\, please RSVP to info@thegrwdb.org for more information!
URL:https://thegrwdb.org/event/grwdb-operations-committee-meeting-in-person-and-via-gotomeeting-2/
LOCATION:27 Warren St\, Somerville\, NJ 08876\, 27 Warren St.\, Somerville\, NJ\, 08876\, United States
CATEGORIES:Committee Meeting
END:VEVENT
END:VCALENDAR