BEGIN:VCALENDAR
VERSION:2.0
PRODID:-//Greater Raritan - ECPv6.15.20//NONSGML v1.0//EN
CALSCALE:GREGORIAN
METHOD:PUBLISH
X-ORIGINAL-URL:https://thegrwdb.org
X-WR-CALDESC:Events for Greater Raritan
REFRESH-INTERVAL;VALUE=DURATION:PT1H
X-Robots-Tag:noindex
X-PUBLISHED-TTL:PT1H
BEGIN:VTIMEZONE
TZID:America/New_York
BEGIN:DAYLIGHT
TZOFFSETFROM:-0500
TZOFFSETTO:-0400
TZNAME:EDT
DTSTART:20230312T070000
END:DAYLIGHT
BEGIN:STANDARD
TZOFFSETFROM:-0400
TZOFFSETTO:-0500
TZNAME:EST
DTSTART:20231105T060000
END:STANDARD
BEGIN:DAYLIGHT
TZOFFSETFROM:-0500
TZOFFSETTO:-0400
TZNAME:EDT
DTSTART:20240310T070000
END:DAYLIGHT
BEGIN:STANDARD
TZOFFSETFROM:-0400
TZOFFSETTO:-0500
TZNAME:EST
DTSTART:20241103T060000
END:STANDARD
BEGIN:DAYLIGHT
TZOFFSETFROM:-0500
TZOFFSETTO:-0400
TZNAME:EDT
DTSTART:20250309T070000
END:DAYLIGHT
BEGIN:STANDARD
TZOFFSETFROM:-0400
TZOFFSETTO:-0500
TZNAME:EST
DTSTART:20251102T060000
END:STANDARD
END:VTIMEZONE
BEGIN:VEVENT
DTSTART;TZID=America/New_York:20240625T160000
DTEND;TZID=America/New_York:20240625T200000
DTSTAMP:20260424T053045
CREATED:20240411T023945Z
LAST-MODIFIED:20240411T023945Z
UID:3322-1719331200-1719345600@thegrwdb.org
SUMMARY:New Jersey Statewide Multicultural Business Expo
DESCRIPTION:Businesses will have the opportunity to market their services\, display their products and network with local and global business leaders at the Pines coming to Edison in June.  \nHosted by the Middlesex Regional Chamber of Commerce\, the event on June 25 at the Pines Manor will kick off with the New Jersey Immigrant Entrepreneur of the Year Awards followed by a celebration featuring food\, live performances and entertainment from around the world.  \nThere is no admission charge to enjoy the festivities\, network with owners of multicultural businesses and meet potential clients.  \nSponsorship opportunities and exhibitor spaces are available now for businesses\, organizations and nonprofits of all sizes. Go to the MRCC website here for more information. 
URL:https://thegrwdb.org/event/new-jersey-statewide-multicultural-business-expo/
LOCATION:Pines Manor\, 2085 Lincoln Highway\, Edison\, NJ\, 08817\, United States
CATEGORIES:Business Event
END:VEVENT
END:VCALENDAR