BEGIN:VCALENDAR
VERSION:2.0
PRODID:-//Greater Raritan - ECPv6.15.20//NONSGML v1.0//EN
CALSCALE:GREGORIAN
METHOD:PUBLISH
X-WR-CALNAME:Greater Raritan
X-ORIGINAL-URL:https://thegrwdb.org
X-WR-CALDESC:Events for Greater Raritan
REFRESH-INTERVAL;VALUE=DURATION:PT1H
X-Robots-Tag:noindex
X-PUBLISHED-TTL:PT1H
BEGIN:VTIMEZONE
TZID:America/New_York
BEGIN:DAYLIGHT
TZOFFSETFROM:-0500
TZOFFSETTO:-0400
TZNAME:EDT
DTSTART:20230312T070000
END:DAYLIGHT
BEGIN:STANDARD
TZOFFSETFROM:-0400
TZOFFSETTO:-0500
TZNAME:EST
DTSTART:20231105T060000
END:STANDARD
BEGIN:DAYLIGHT
TZOFFSETFROM:-0500
TZOFFSETTO:-0400
TZNAME:EDT
DTSTART:20240310T070000
END:DAYLIGHT
BEGIN:STANDARD
TZOFFSETFROM:-0400
TZOFFSETTO:-0500
TZNAME:EST
DTSTART:20241103T060000
END:STANDARD
BEGIN:DAYLIGHT
TZOFFSETFROM:-0500
TZOFFSETTO:-0400
TZNAME:EDT
DTSTART:20250309T070000
END:DAYLIGHT
BEGIN:STANDARD
TZOFFSETFROM:-0400
TZOFFSETTO:-0500
TZNAME:EST
DTSTART:20251102T060000
END:STANDARD
END:VTIMEZONE
BEGIN:VEVENT
DTSTART;TZID=America/New_York:20240520T093000
DTEND;TZID=America/New_York:20240520T163000
DTSTAMP:20260424T073041
CREATED:20240510T010123Z
LAST-MODIFIED:20240510T010123Z
UID:3359-1716197400-1716222600@thegrwdb.org
SUMMARY:N.J. State-of-the-State Manufacturing Summit
DESCRIPTION:The 2024 State-of-the-State of Manufacturing Summit in Trenton will bring together hundreds of N.J. manufacturing industry leaders\, state legislators\, and businesses executives for discussions on the industry’s most critical issues. \nThis is a chance for manufacturers to explain their challenges and for the Legislature to present their goals and solutions for the year ahead and beyond. \nThis event\, part of the Manufacturing Counts initiative\, is now being run by the NJBIA. A collaborative effort with NJMEP\, its goal is to assist the manufacturing community and the broader business landscape in New Jersey\, resulting in a prosperous business ecosystem in New Jersey. \nThis year’s event will start with a Hill Day at the NJ State Capitol at 9:30 a.m. and finish with a networking event at Cooper’s Riverview\, Trenton. NJBIA’s policy team will manage the schedule of in-person meetings with elected officials at the State Capitol. The State Capitol portion of the event is limited to only manufacturers. \nEvent registrants will be prepared by NJBIA through a virtual briefing that will be recorded. The date of this briefing will be announced to registrants shortly. \nTo register\, go here. \nFor more information\, visit nj.mep.org/sots or call 973-998-9801.
URL:https://thegrwdb.org/event/n-j-state-of-the-state-manufacturing-summit/
LOCATION:New Jersey Capitol\, Trenton\, NJ\, 08608\, United States
CATEGORIES:Business Event
END:VEVENT
BEGIN:VEVENT
DTSTART;TZID=America/New_York:20240520T100000
DTEND;TZID=America/New_York:20240520T150000
DTSTAMP:20260424T073041
CREATED:20240517T010237Z
LAST-MODIFIED:20240517T010237Z
UID:3365-1716199200-1716217200@thegrwdb.org
SUMMARY:New Jersey Eastern Star Job Fair
DESCRIPTION:The New Jersey Eastern Star Rehabilitation and Nursing center at 111 Finderne Ave.\, Bridgewater\, is hosting an in-person Job Fair from 10 a.m. to 3 p.m. Monday\, May 20. \nThe center is looking to fill different positions\, including Certified Nurses Aide (CNA). \nThe event will include giveaways and raffle prizes and the opportunity to learn about benefits for CNAs\, including: a $3\,000 sign-on bonus\, a transportation allowance\, a complimentary daily meal\, and medical benefits. \nFor more information\, visit njeasternstar.org or call 908-722-4140.
URL:https://thegrwdb.org/event/new-jersey-eastern-star-job-fair/
LOCATION:New Jersey Eastern Star\, 111 Finderne Ave.\, Bridgewater\, NJ\, 08807\, United States
CATEGORIES:Recruitment Event
END:VEVENT
BEGIN:VEVENT
DTSTART;TZID=America/New_York:20240520T130000
DTEND;TZID=America/New_York:20240520T160000
DTSTAMP:20260424T073041
CREATED:20240419T234143Z
LAST-MODIFIED:20240419T234143Z
UID:3340-1716210000-1716220800@thegrwdb.org
SUMMARY:Veteran’s Resource Fair in Hunterdon County
DESCRIPTION:The Hunterdon County Board of Commissioners and Congressman Tom Kean\, Jr. are presenting a Veteran’s Resource Fair on Monday\, May 20\, at 1 p.m.\, at the County Complex\, Building 1\, 314 Route 12\, in Flemington. \nThe event is specifically designed to provide resources\, support\, and networking opportunities for veterans. A number of state and county departments will be present\, along with the YMCA of Bucks and Hunterdon Counties and the Greater Raritan Workforce Development Board. Additional participants will be announced at the event date nears. \nLight refreshments will be served. \nTo RSVP\, click here.
URL:https://thegrwdb.org/event/veterans-resource-fair-in-hunterdon-county/
LOCATION:Hunterdon County Complex\, 314 State Route 12\, Flemington\, NJ\, 08822\, United States
CATEGORIES:Community Event
END:VEVENT
END:VCALENDAR