BEGIN:VCALENDAR
VERSION:2.0
PRODID:-//Greater Raritan - ECPv6.15.20//NONSGML v1.0//EN
CALSCALE:GREGORIAN
METHOD:PUBLISH
X-WR-CALNAME:Greater Raritan
X-ORIGINAL-URL:https://thegrwdb.org
X-WR-CALDESC:Events for Greater Raritan
REFRESH-INTERVAL;VALUE=DURATION:PT1H
X-Robots-Tag:noindex
X-PUBLISHED-TTL:PT1H
BEGIN:VTIMEZONE
TZID:America/New_York
BEGIN:DAYLIGHT
TZOFFSETFROM:-0500
TZOFFSETTO:-0400
TZNAME:EDT
DTSTART:20230312T070000
END:DAYLIGHT
BEGIN:STANDARD
TZOFFSETFROM:-0400
TZOFFSETTO:-0500
TZNAME:EST
DTSTART:20231105T060000
END:STANDARD
BEGIN:DAYLIGHT
TZOFFSETFROM:-0500
TZOFFSETTO:-0400
TZNAME:EDT
DTSTART:20240310T070000
END:DAYLIGHT
BEGIN:STANDARD
TZOFFSETFROM:-0400
TZOFFSETTO:-0500
TZNAME:EST
DTSTART:20241103T060000
END:STANDARD
BEGIN:DAYLIGHT
TZOFFSETFROM:-0500
TZOFFSETTO:-0400
TZNAME:EDT
DTSTART:20250309T070000
END:DAYLIGHT
BEGIN:STANDARD
TZOFFSETFROM:-0400
TZOFFSETTO:-0500
TZNAME:EST
DTSTART:20251102T060000
END:STANDARD
END:VTIMEZONE
BEGIN:VEVENT
DTSTART;TZID=America/New_York:20240507T084500
DTEND;TZID=America/New_York:20240507T130000
DTSTAMP:20260424T073041
CREATED:20240415T194008Z
LAST-MODIFIED:20240415T194008Z
UID:3327-1715071500-1715086800@thegrwdb.org
SUMMARY:Norwescap Job Readiness series in Flemington: Intro to GoogleDocs
DESCRIPTION:Job Readiness Computer Skills will be offered in May by Norwescap in an in-person training series at the agency’s training center at 84 Park Ave. The free series will run from 8:45 a.m. to 1 p.m. using agency computers and Internet: \nMay 7: Introduction to #GoogleDocs Learn\, how to format\, create documents and save them on #GoogleDrive. \nMay 9: Office 365 Excel day 1\, to create spreadsheets and charts. \nMay 14: Office 365 Excel day 2– Continue working on spreadsheets and charts \nMay 16: Office 365 Google Sheets – Learn how to create spreadsheets and save to Google Drive. \nMay 23: Office 365 PowerPoint day 1 to create professional presentations \nMay 28: Office 365 PowerPoint day 2 to create professional presentations \nMay 30: Google Presentations – Learn how to create a presentation and save it in Google Drive. \nAnd lastly\, on May 30\, The Career & Life Club will present Getting Comfy with Public Speaking at noon via Zoom. Participants will learn an easy\, fun way to get comfortable with public speaking as well as about Opportunities to Practice Your Leadership Skills\, with Toastmasters. \nRegistration for the session is required. Call Terry at 908-788-1435.
URL:https://thegrwdb.org/event/norwescap-job-readiness-series-in-flemington-intro-to-googledocs/
LOCATION:NORWESCAP Flemington\, 84 Park Ave.\, Suite E-104\, Flemington\, NJ\, 08822\, United States
CATEGORIES:Workshops
END:VEVENT
BEGIN:VEVENT
DTSTART;TZID=America/New_York:20240507T100000
DTEND;TZID=America/New_York:20240507T133000
DTSTAMP:20260424T073041
CREATED:20240412T005609Z
LAST-MODIFIED:20240412T005609Z
UID:3324-1715076000-1715088600@thegrwdb.org
SUMMARY:Become a Health Care Hero Recruitment Event at Middlesex College
DESCRIPTION:Middlesex County is hosting a Become a Health Care Hero Event on Tuesday\, May 7\, from 10 a.m. to 1:30 p.m. at Middlesex College\, West Hall\, 2600 Woodbridge Ave.\, Edison. \nThe event will present the opportunity to connect with a range of healthcare organizations\, all actively seeking talented individuals to fill more than 1\,000 open positions around the county. The event is appropriate for a seasoned professional or someone just starting a healthcare career journey. \nHere’s what to expect: \n\nMeet face-to-face with representatives from leading healthcare providers.\nExplore a variety of career paths in social work\, nursing\, therapy\, medical assisting\, remote customer service positions\, instructors\, and more.\nLearn about benefits packages and career development programs.\n\nAttendees are reminded to bring an updated resume\, and a positive attitude and a passion for making a difference. \nAll are welcomed but registration is encouraged. Scan the QR code in this flyer or use this link.
URL:https://thegrwdb.org/event/become-a-health-care-hero-recruitment-event-at-middlesex-college/
LOCATION:Middlesex College\, 2600 Woodbridge Ave.\, Edison\, NJ\, 08818\, United States
CATEGORIES:Career Fair
END:VEVENT
BEGIN:VEVENT
DTSTART;TZID=America/New_York:20240507T140000
DTEND;TZID=America/New_York:20240507T144500
DTSTAMP:20260424T073041
CREATED:20240427T004010Z
LAST-MODIFIED:20240427T004010Z
UID:3347-1715090400-1715093100@thegrwdb.org
SUMMARY:GRWDB Literacy Committee meeting – In-person and virtual
DESCRIPTION:Through policy\, oversight\, and planning\, the GRWDB ensures that workforce training and education investments are responsive to and meet the needs of employers and jobseekers and is responsible for maintaining committees to help inform decision-making around services and priorities for targeted populations. One of those includes the GRWDB’s Literacy Committee\, which works with Title II literacy providers and volunteer literacy organizations in Hunterdon and Somerset counties to ensure literacy training is connected to the other services offered in Greater Raritan’s workforce system. \nThe agenda will include a review of the First Step Basic English program and a discussion about literacy services/gaps in Hunterdon County. Meeting agendas can be found here on the GRWDB website. \nThe meeting will be hybrid\, in-person in the second-floor conference room at 27 Warren St.\, Somerville\, and on GoToMeeting. To join the meeting virtually: \nGRWDB Literacy Committee meeting\nMay 7\, 2024\, 2:00 – 2:45 PM \nPlease join the meeting from your computer\, tablet or smartphone.\nhttps://meet.goto.com/471744229 \nYou can also dial in using your phone.\nAccess Code: 471-744-229\nUnited States: +1 (872) 240-3412 \nAll are welcomed to attend. Newcomers\, please RSVP to info@thegrwdb.org to join.
URL:https://thegrwdb.org/event/grwdb-literacy-committee-meeting-in-person-and-virtual/
LOCATION:In-person at Somerset County Human Services building or via GoToMeeting\, 27 Warren St.\, second-floor conference room\, Somerville\, NJ\, 08876\, United States
CATEGORIES:Committee Meeting
END:VEVENT
END:VCALENDAR