BEGIN:VCALENDAR
VERSION:2.0
PRODID:-//Greater Raritan - ECPv6.15.20//NONSGML v1.0//EN
CALSCALE:GREGORIAN
METHOD:PUBLISH
X-ORIGINAL-URL:https://thegrwdb.org
X-WR-CALDESC:Events for Greater Raritan
REFRESH-INTERVAL;VALUE=DURATION:PT1H
X-Robots-Tag:noindex
X-PUBLISHED-TTL:PT1H
BEGIN:VTIMEZONE
TZID:America/New_York
BEGIN:DAYLIGHT
TZOFFSETFROM:-0500
TZOFFSETTO:-0400
TZNAME:EDT
DTSTART:20230312T070000
END:DAYLIGHT
BEGIN:STANDARD
TZOFFSETFROM:-0400
TZOFFSETTO:-0500
TZNAME:EST
DTSTART:20231105T060000
END:STANDARD
BEGIN:DAYLIGHT
TZOFFSETFROM:-0500
TZOFFSETTO:-0400
TZNAME:EDT
DTSTART:20240310T070000
END:DAYLIGHT
BEGIN:STANDARD
TZOFFSETFROM:-0400
TZOFFSETTO:-0500
TZNAME:EST
DTSTART:20241103T060000
END:STANDARD
BEGIN:DAYLIGHT
TZOFFSETFROM:-0500
TZOFFSETTO:-0400
TZNAME:EDT
DTSTART:20250309T070000
END:DAYLIGHT
BEGIN:STANDARD
TZOFFSETFROM:-0400
TZOFFSETTO:-0500
TZNAME:EST
DTSTART:20251102T060000
END:STANDARD
END:VTIMEZONE
BEGIN:VEVENT
DTSTART;TZID=America/New_York:20240430T084500
DTEND;TZID=America/New_York:20240430T130000
DTSTAMP:20260424T074402
CREATED:20240124T235311Z
LAST-MODIFIED:20240124T235311Z
UID:3306-1714466700-1714482000@thegrwdb.org
SUMMARY:Norwescap Core Computer Skills series in Spanish in North Plainfield: Office365 Day 2
DESCRIPTION:Norwescap’s Core Computer Skills series is designed to help class participants build a strong foundation using computers. The April free series will be conducted in Spanish and in person at Norwescap’s North Plainfield training center\, at 170 Watchung Ave.\, using the agency’s computers and internet. Class time for the following classes is 8:45 a.m. to 1 p.m. Para ver el folleto del evento en español\, haga clic aquí. \nThe class schedule: \nTuesday\, April 16 – Basic Computer Knowledge – Build a foundation of computer terms and understand how Windows the operating system works. \nThursday\, April 18 – File Management – Learn how to organize and find files\, save them where they belong\, copy and move files and much more. Also learn tips and tricks for finding and saving favorite websites and pages. \nTuesday\, April 23 – Know Your email App – Learn the importance of creating a professional email account\, organizing and controlling incoming emails\, personalized signatures and much more. Participants also will learn how to take advantage of the many features in your email Calendar. Never miss an appointment again! \nThursday\, April 25 and Tuesday\, April 30 – Office365 Word. Learn how to create professional documents. \nTo reserve a seat\, call 908-900-0060 ext. 1502.
URL:https://thegrwdb.org/event/norwescap-core-computer-skills-series-in-spanish-in-north-plainfield-office365-day-2/
LOCATION:NORWESCAP North Plainfield\, 170 Watchung Ave.\, lower level\, North Plainfield\, 07060\, United States
CATEGORIES:Class
END:VEVENT
BEGIN:VEVENT
DTSTART;TZID=America/New_York:20240430T084500
DTEND;TZID=America/New_York:20240430T130000
DTSTAMP:20260424T074402
CREATED:20240124T235311Z
LAST-MODIFIED:20240124T235311Z
UID:3308-1714466700-1714482000@thegrwdb.org
SUMMARY:Norwescap Core Computer Skills series in Flemington: Office365
DESCRIPTION:Norwescap’s Core Computer Skills series is designed to help class participants build a strong foundation using computers. \nOn Tuesday\, April 30\, Norwescap’s Flemington training center\, at 84 Park Ave.\, will host a class on using Office365 Word to create professional documents. \nThe class\, using the agency’s computers and Internet\, will run from 8:45 a.m. to 1 p.m. \nTo reserve a seat\, call 908-788-1453.
URL:https://thegrwdb.org/event/norwescap-core-computer-skills-series-in-flemington-office365/
LOCATION:NORWESCAP Flemington\, 84 Park Ave.\, Suite E-104\, Flemington\, NJ\, 08822\, United States
CATEGORIES:Class
END:VEVENT
BEGIN:VEVENT
DTSTART;TZID=America/New_York:20240430T090000
DTEND;TZID=America/New_York:20240430T150000
DTSTAMP:20260424T074402
CREATED:20240419T225038Z
LAST-MODIFIED:20240419T225038Z
UID:3339-1714467600-1714489200@thegrwdb.org
SUMMARY:New Jersey Apprenticeship Technical Assistance Collaborative Spring 2024 Convening
DESCRIPTION:The New Jersey Apprenticeship Technical Assistance Collaborative (NJ-ATAC) is hosting its Spring 2024 Convening on Tuesday\, April 30\, from 9:30 a.m. to 3 p.m. at Mercer County Community College’s West Windsor Campus Conference Center\, 1200 Old Trenton Road\, West Windsor. \nNJ A-TAC is a statewide initiative supported by the New Jersey Department of Labor and operated by the New Jersey Council of County Colleges\, in partnership with nationally recognized experts from AIR and Jobs for the Future (JFF). A-TAC provides technical assistance designed to help expand Registered Apprenticeship programs in New Jersey\, with a goal of promoting best in class diversity\, equity\, and inclusion practices. \nRepresentatives involved with registered apprenticeship from workforce boards\, One-Stop Career Centers\, community colleges\, and other education and workforce partners are invited to attend this free event with the NJ A-TAC team\, along with leaders from the U.S. Department of Labor’s Office of Apprenticeship and the New Jersey Department of Labor. \nAt the Spring 2024 Apprenticeship Convening\, apprenticeship partners will learn more about: \n\nOutreach and Relationship Building\nRegistration Process\nProgram Standards Development and Approval Processes\nRecruitment and Partner Support\nStrategic Planning in Action\n\nThe Spring 2024 Apprenticeship Convening will offer opportunities to collaborate on the strategic alignment of resources\, investments\, and efforts across the workforce and education system to achieve New Jersey’s vision for Registered Apprenticeship expansion. \nTo register go here. 
URL:https://thegrwdb.org/event/new-jersey-apprenticeship-technical-assistance-collaborative-spring-2024-convening/
LOCATION:Mercer County Community College Conference Center\, 1200 Old Trenton Road\, West Windsor\, NJ\, 08550\, United States
CATEGORIES:Apprenticeship Event
END:VEVENT
END:VCALENDAR