BEGIN:VCALENDAR
VERSION:2.0
PRODID:-//Greater Raritan - ECPv6.15.20//NONSGML v1.0//EN
CALSCALE:GREGORIAN
METHOD:PUBLISH
X-WR-CALNAME:Greater Raritan
X-ORIGINAL-URL:https://thegrwdb.org
X-WR-CALDESC:Events for Greater Raritan
REFRESH-INTERVAL;VALUE=DURATION:PT1H
X-Robots-Tag:noindex
X-PUBLISHED-TTL:PT1H
BEGIN:VTIMEZONE
TZID:America/New_York
BEGIN:DAYLIGHT
TZOFFSETFROM:-0500
TZOFFSETTO:-0400
TZNAME:EDT
DTSTART:20230312T070000
END:DAYLIGHT
BEGIN:STANDARD
TZOFFSETFROM:-0400
TZOFFSETTO:-0500
TZNAME:EST
DTSTART:20231105T060000
END:STANDARD
BEGIN:DAYLIGHT
TZOFFSETFROM:-0500
TZOFFSETTO:-0400
TZNAME:EDT
DTSTART:20240310T070000
END:DAYLIGHT
BEGIN:STANDARD
TZOFFSETFROM:-0400
TZOFFSETTO:-0500
TZNAME:EST
DTSTART:20241103T060000
END:STANDARD
BEGIN:DAYLIGHT
TZOFFSETFROM:-0500
TZOFFSETTO:-0400
TZNAME:EDT
DTSTART:20250309T070000
END:DAYLIGHT
BEGIN:STANDARD
TZOFFSETFROM:-0400
TZOFFSETTO:-0500
TZNAME:EST
DTSTART:20251102T060000
END:STANDARD
END:VTIMEZONE
BEGIN:VEVENT
DTSTART;TZID=America/New_York:20240409T100000
DTEND;TZID=America/New_York:20240409T140000
DTSTAMP:20260424T092043
CREATED:20240322T235955Z
LAST-MODIFIED:20240322T235955Z
UID:3311-1712656800-1712671200@thegrwdb.org
SUMMARY:RWJBarnabas Health Hiring Event
DESCRIPTION:RWJ Barnabas Health is hiring. Learn more at a hiring event being conducted at Middlesex College in Edison from 10 a.m. to 2 p.m. Tuesday\, April 9. \nAttendees will learn about the entry-level positions and the departments hosting the openings. Hiring managers will be in attendance and on-the-spot interviews may be conducted. \nPre-registration is encouraged via the QR Code in this flyer or by using this link.
URL:https://thegrwdb.org/event/rwjbarnabas-health-hiring-event/
LOCATION:Middlesex College\, 2600 Woodbridge Ave.\, Edison\, NJ\, 08818\, United States
CATEGORIES:Recruitment Event
END:VEVENT
BEGIN:VEVENT
DTSTART;TZID=America/New_York:20240409T180000
DTEND;TZID=America/New_York:20240409T200000
DTSTAMP:20260424T092043
CREATED:20240323T011047Z
LAST-MODIFIED:20240323T011047Z
UID:3313-1712685600-1712692800@thegrwdb.org
SUMMARY:RVCC Career Night: Business
DESCRIPTION:Raritan Valley Community College will conduct several Career Nights in April that will offer prospective students information about educational opportunities and career pathways in such fields as business\, engineering\, paralegal studies\, and criminal justice. \nDuring the programs\, which are free of charge and open to the community\, participants will be able to engage with faculty members and/or industry partners in their respective fields at roundtable sessions. The Career Nights all will be conducted from 6-8 p.m. in the Event Center at RVCC’s Branchburg campus. \nThe following events have been scheduled: \n\nEngineering Career Night\, April 2\nBusiness Career Night\, April 9\nParalegal Studies Career Night\, April 15\nCriminal Justice Career Night\, April 17\n\n To register for an upcoming Career Night\, go to www.raritanval.edu/visit. For additional information\, contact Admissions at 908-526-1200 (Select Option 2) or admissions@raritanval.edu.
URL:https://thegrwdb.org/event/rvcc-career-night-business/
LOCATION:Raritan Valley Community College Event Center\, 118 Lamington Road\, Branchburg\, NJ\, 08876\, United States
CATEGORIES:College Event
END:VEVENT
END:VCALENDAR