BEGIN:VCALENDAR
VERSION:2.0
PRODID:-//Greater Raritan - ECPv6.15.20//NONSGML v1.0//EN
CALSCALE:GREGORIAN
METHOD:PUBLISH
X-WR-CALNAME:Greater Raritan
X-ORIGINAL-URL:https://thegrwdb.org
X-WR-CALDESC:Events for Greater Raritan
REFRESH-INTERVAL;VALUE=DURATION:PT1H
X-Robots-Tag:noindex
X-PUBLISHED-TTL:PT1H
BEGIN:VTIMEZONE
TZID:America/New_York
BEGIN:DAYLIGHT
TZOFFSETFROM:-0500
TZOFFSETTO:-0400
TZNAME:EDT
DTSTART:20230312T070000
END:DAYLIGHT
BEGIN:STANDARD
TZOFFSETFROM:-0400
TZOFFSETTO:-0500
TZNAME:EST
DTSTART:20231105T060000
END:STANDARD
BEGIN:DAYLIGHT
TZOFFSETFROM:-0500
TZOFFSETTO:-0400
TZNAME:EDT
DTSTART:20240310T070000
END:DAYLIGHT
BEGIN:STANDARD
TZOFFSETFROM:-0400
TZOFFSETTO:-0500
TZNAME:EST
DTSTART:20241103T060000
END:STANDARD
BEGIN:DAYLIGHT
TZOFFSETFROM:-0500
TZOFFSETTO:-0400
TZNAME:EDT
DTSTART:20250309T070000
END:DAYLIGHT
BEGIN:STANDARD
TZOFFSETFROM:-0400
TZOFFSETTO:-0500
TZNAME:EST
DTSTART:20251102T060000
END:STANDARD
END:VTIMEZONE
BEGIN:VEVENT
DTSTART;TZID=America/New_York:20240315T100000
DTEND;TZID=America/New_York:20240315T110000
DTSTAMP:20260424T111422
CREATED:20240306T214408Z
LAST-MODIFIED:20240306T214408Z
UID:3291-1710496800-1710500400@thegrwdb.org
SUMMARY:Good News Home Virtual Hire Event - morning session
DESCRIPTION:The Hunterdon County-based Good News Home is conducting a Virtual Hiring Event on Friday\, March 15. Job seekers can attend either one of two sessions\, at 10 a.m. and 2 p.m. \nFull-time and part-time positions are available\, and on-the-spot interviews may be conducted. \nAvailable positions include Development Coordinator\, Lead Behavioural Health Monitor\, Behavioural Health Monitor\, Peer Specialist\, Case Manager and Registered Nurse. \nRegistration is required by going to https://www.goodnewshome.org/events-1. \nResumes are to be emailed to dawn@goodnewshome.org after registration is completed. \n 
URL:https://thegrwdb.org/event/good-news-home-virtual-hire-event-morning-session/
LOCATION:Virtual Event
CATEGORIES:Recruitment Event
END:VEVENT
BEGIN:VEVENT
DTSTART;TZID=America/New_York:20240315T140000
DTEND;TZID=America/New_York:20240315T150000
DTSTAMP:20260424T111422
CREATED:20240306T214408Z
LAST-MODIFIED:20240306T214408Z
UID:3292-1710511200-1710514800@thegrwdb.org
SUMMARY:Good News Home Virtual Hire Event - afternoon session
DESCRIPTION:The Hunterdon County-based Good News Home is conducting a Virtual Hiring Event on Friday\, March 15. Job seekers can attend either one of two sessions\, at 10 a.m. and 2 p.m. \nFull-time and part-time positions are available\, and on-the-spot interviews may be conducted. \nAvailable positions include Development Coordinator\, Lead Behavioural Health Monitor\, Behavioural Health Monitor\, Peer Specialist\, Case Manager and Registered Nurse. \nRegistration is required by going to https://www.goodnewshome.org/events-1. \nResumes are to be emailed to dawn@goodnewshome.org after registration is completed. \n 
URL:https://thegrwdb.org/event/good-news-home-virtual-hire-event-afternoon-session/
LOCATION:Virtual Event
CATEGORIES:Recruitment Event
END:VEVENT
END:VCALENDAR