BEGIN:VCALENDAR
VERSION:2.0
PRODID:-//Greater Raritan - ECPv6.15.20//NONSGML v1.0//EN
CALSCALE:GREGORIAN
METHOD:PUBLISH
X-WR-CALNAME:Greater Raritan
X-ORIGINAL-URL:https://thegrwdb.org
X-WR-CALDESC:Events for Greater Raritan
REFRESH-INTERVAL;VALUE=DURATION:PT1H
X-Robots-Tag:noindex
X-PUBLISHED-TTL:PT1H
BEGIN:VTIMEZONE
TZID:America/New_York
BEGIN:DAYLIGHT
TZOFFSETFROM:-0500
TZOFFSETTO:-0400
TZNAME:EDT
DTSTART:20230312T070000
END:DAYLIGHT
BEGIN:STANDARD
TZOFFSETFROM:-0400
TZOFFSETTO:-0500
TZNAME:EST
DTSTART:20231105T060000
END:STANDARD
BEGIN:DAYLIGHT
TZOFFSETFROM:-0500
TZOFFSETTO:-0400
TZNAME:EDT
DTSTART:20240310T070000
END:DAYLIGHT
BEGIN:STANDARD
TZOFFSETFROM:-0400
TZOFFSETTO:-0500
TZNAME:EST
DTSTART:20241103T060000
END:STANDARD
BEGIN:DAYLIGHT
TZOFFSETFROM:-0500
TZOFFSETTO:-0400
TZNAME:EDT
DTSTART:20250309T070000
END:DAYLIGHT
BEGIN:STANDARD
TZOFFSETFROM:-0400
TZOFFSETTO:-0500
TZNAME:EST
DTSTART:20251102T060000
END:STANDARD
END:VTIMEZONE
BEGIN:VEVENT
DTSTART;TZID=America/New_York:20240229T084500
DTEND;TZID=America/New_York:20240229T130000
DTSTAMP:20260424T111423
CREATED:20240124T235311Z
LAST-MODIFIED:20240124T235311Z
UID:3275-1709196300-1709211600@thegrwdb.org
SUMMARY:Norwescap Core Computer Skills series in Flemington: Introduction to Gmail App
DESCRIPTION:Norwescap’s Core Computer Skills series is designed to help class participants build a strong foundation using computers. This month’s free series will be conducted in person at Norwescap’s Flemington training center\, at 84 Park Ave.\, using the agency’s computers and internet. Class time for the following classes is 8:45 a.m. to 1 p.m. \nTuesday\, February 20 – Basic Computer Knowledge – Build a foundation of computer terms and understand how Windows the operating system works. \nThursday\, February 22 – File Management – Learn how to organize and find files\, save them where they belong\, copy and move files and much more. Also learn tips and tricks for finding and saving favorite websites and pages. \nTuesday\, February 27 – Know Your email App – Learn the importance of creating a professional email account\, organizing and controlling incoming emails\, personalized signatures and much more. Participants also will learn how to take advantage of the many features in your email Calendar. Never miss an appointment again! \nThursday\, February 29 – Introduction to Gmail App.  Learn how to use Settings\, Labels\, Categories\, Setup your signature and saving to Google Drive. \nTuesday\, March 5 – Virtual Communications. Virtual interviews or telemedicine require use of Zoom and other virtual communication tools. Learn how to successfully use the tools on this platform for interviews. Participants also will learn the Dos and Don’t of communicating on the web. \nTo reserve a seat\, call Terry at 908-788-1453 from 9 a.m. to 5 p.m. Monday to Friday.
URL:https://thegrwdb.org/event/norwescap-core-computer-skills-series-in-flemington-introduction-to-gmail-app/
LOCATION:NORWESCAP Flemington\, 84 Park Ave.\, Suite E-104\, Flemington\, NJ\, 08822\, United States
CATEGORIES:Class
END:VEVENT
BEGIN:VEVENT
DTSTART;TZID=America/New_York:20240229T180000
DTEND;TZID=America/New_York:20240229T210000
DTSTAMP:20260424T111423
CREATED:20240213T002134Z
LAST-MODIFIED:20240213T002134Z
UID:3278-1709229600-1709240400@thegrwdb.org
SUMMARY:Connecting NJ Manufacturers To Employees\, Clients and Contracts
DESCRIPTION:The “Best Practice” processes and procedures the U.S. Navy has developed to link employers to employees in today’s competitive employment environment are the subject of an upcoming free dinner and presentation sponsored by the NJTMA in conjunction with NJSBDC and TMG\, Inc. \nThe program will be conducted from 6 to 9 p.m. Thursday\, February 29\, at the Galloping Hill Golf Club at 3 Golf Drive in Kenilworth. \nThe U.S. Navy Talent Pipeline Program is metrics driven\, and has been used successfully in Pennsylvania\, Virginia\, New England and New York. The program is now being introduced to the New Jersey manufacturing community. \nThis event is geared exclusively to NJ-based small to medium-sized manufacturers and is open to NJTMA members and non-members alike\, and attendees do not have to currently be doing Department of Defense (DoD) business to attend. \nAttendees will get ideas on how to attract new talent into their companies\, while also learning how to get involved in the U.S. Navy Talent Pipeline Program and possibly start doing business with the Navy or the DoD in general. \nTo register\, go here. \nFor more information\, visit https://www.njtma.org/.
URL:https://thegrwdb.org/event/connecting-nj-manufacturers-to-employees-clients-and-contracts/
LOCATION:Galloping Hill Golf Course\, 3 Golf Drive\, Kenilworth\, NJ\, 07033\, United States
CATEGORIES:Business Event
END:VEVENT
END:VCALENDAR