BEGIN:VCALENDAR
VERSION:2.0
PRODID:-//Greater Raritan - ECPv6.15.20//NONSGML v1.0//EN
CALSCALE:GREGORIAN
METHOD:PUBLISH
X-ORIGINAL-URL:https://thegrwdb.org
X-WR-CALDESC:Events for Greater Raritan
REFRESH-INTERVAL;VALUE=DURATION:PT1H
X-Robots-Tag:noindex
X-PUBLISHED-TTL:PT1H
BEGIN:VTIMEZONE
TZID:America/New_York
BEGIN:DAYLIGHT
TZOFFSETFROM:-0500
TZOFFSETTO:-0400
TZNAME:EDT
DTSTART:20230312T070000
END:DAYLIGHT
BEGIN:STANDARD
TZOFFSETFROM:-0400
TZOFFSETTO:-0500
TZNAME:EST
DTSTART:20231105T060000
END:STANDARD
BEGIN:DAYLIGHT
TZOFFSETFROM:-0500
TZOFFSETTO:-0400
TZNAME:EDT
DTSTART:20240310T070000
END:DAYLIGHT
BEGIN:STANDARD
TZOFFSETFROM:-0400
TZOFFSETTO:-0500
TZNAME:EST
DTSTART:20241103T060000
END:STANDARD
BEGIN:DAYLIGHT
TZOFFSETFROM:-0500
TZOFFSETTO:-0400
TZNAME:EDT
DTSTART:20250309T070000
END:DAYLIGHT
BEGIN:STANDARD
TZOFFSETFROM:-0400
TZOFFSETTO:-0500
TZNAME:EST
DTSTART:20251102T060000
END:STANDARD
END:VTIMEZONE
BEGIN:VEVENT
DTSTART;TZID=America/New_York:20240205T090000
DTEND;TZID=America/New_York:20240209T150000
DTSTAMP:20260424T130636
CREATED:20240110T193507Z
LAST-MODIFIED:20240110T193507Z
UID:3268-1707123600-1707490800@thegrwdb.org
SUMMARY:Solar Photovoltaic Free Training Bootcamp
DESCRIPTION:Middlesex College’s Office of Workforce Development and Lifelong Learning is hosting a free Solar Photovoltaic (PV) Training Bootcamp from February 5 to 9\, 9 a.m. to 3 p.m. each day. \nThe in-person bootcamp being presented at the college in Edison aims to help attendees train for entry-level jobs in this fast-growing industry. It is presented in collaboration with Dimension Renewable Energy. \nTopics covered: Introduction to Solar PV; Solar PV Sales; Installation Fundamentals; Solar Photovoltaic Design; 2020\, 2017\, and 2014 National Electrical Code; Hands-On Equipment Exercises; and Preparation for NABCEP Photovoltaic Associate Exam. \nAttendees with leave with the knowledge needed to take a certification exam and have the chance to network and interview for a job with employers who have active job openings. \nFor more information on the boot camp\, contact CE_Registration@middlesexcc.edu or 732-906-2556. Scan the QR code in this flyer to explore additional trade courses options offered by the college. \n 
URL:https://thegrwdb.org/event/solar-photovoltaic-free-training-bootcamp/
LOCATION:Middlesex College\, 2600 Woodbridge Ave.\, Edison\, NJ\, 08818\, United States
CATEGORIES:Training
END:VEVENT
BEGIN:VEVENT
DTSTART;TZID=America/New_York:20240206T100000
DTEND;TZID=America/New_York:20240206T110000
DTSTAMP:20260424T130636
CREATED:20240125T233604Z
LAST-MODIFIED:20240125T233604Z
UID:3277-1707213600-1707217200@thegrwdb.org
SUMMARY:NJM Virtual Job Recruitment for Veterans
DESCRIPTION:A Veterans Virtual Job Recruitment focusing on customer service positions with NJM Insurance Group will be conducted from 10 to 11 a.m. Tuesday\, February 6. These are hybrid positions based in West Trenton\, with work from home available two days per week after the completion of training. \nThis event is only for Veterans and their spouses. \nDetails on the salaries range along with job requirements are available in this flyer\, along with the link and QR code to register. Interested job seekers may also go to https://forms.office.com/g/xEuAfsAhHq to register. An email reminder with the link how to attend will be emailed prior to the day of the event. \nThis event is presented by the Mercer County One-Stop Career Center and the New Jersey Department of Labor and Workforce Development. \n 
URL:https://thegrwdb.org/event/njm-virtual-job-recruitment-for-veterans/
LOCATION:Virtual Event
CATEGORIES:Virtual Information Job Session
END:VEVENT
END:VCALENDAR